BEGIN:VCALENDAR
VERSION:2.0
PRODID:-//Bee9 Wellness - ECPv6.15.20//NONSGML v1.0//EN
CALSCALE:GREGORIAN
METHOD:PUBLISH
X-WR-CALNAME:Bee9 Wellness
X-ORIGINAL-URL:https://bee9living.com
X-WR-CALDESC:Events for Bee9 Wellness
REFRESH-INTERVAL;VALUE=DURATION:PT1H
X-Robots-Tag:noindex
X-PUBLISHED-TTL:PT1H
BEGIN:VTIMEZONE
TZID:UTC
BEGIN:STANDARD
TZOFFSETFROM:+0000
TZOFFSETTO:+0000
TZNAME:UTC
DTSTART:20190101T000000
END:STANDARD
END:VTIMEZONE
BEGIN:VTIMEZONE
TZID:America/Chicago
BEGIN:DAYLIGHT
TZOFFSETFROM:-0600
TZOFFSETTO:-0500
TZNAME:CDT
DTSTART:20190310T080000
END:DAYLIGHT
BEGIN:STANDARD
TZOFFSETFROM:-0500
TZOFFSETTO:-0600
TZNAME:CST
DTSTART:20191103T070000
END:STANDARD
BEGIN:DAYLIGHT
TZOFFSETFROM:-0600
TZOFFSETTO:-0500
TZNAME:CDT
DTSTART:20200308T080000
END:DAYLIGHT
BEGIN:STANDARD
TZOFFSETFROM:-0500
TZOFFSETTO:-0600
TZNAME:CST
DTSTART:20201101T070000
END:STANDARD
BEGIN:DAYLIGHT
TZOFFSETFROM:-0600
TZOFFSETTO:-0500
TZNAME:CDT
DTSTART:20210314T080000
END:DAYLIGHT
BEGIN:STANDARD
TZOFFSETFROM:-0500
TZOFFSETTO:-0600
TZNAME:CST
DTSTART:20211107T070000
END:STANDARD
END:VTIMEZONE
BEGIN:VEVENT
DTSTART;TZID=UTC:20221115T180000
DTEND;TZID=UTC:20221115T200000
DTSTAMP:20260423T150856
CREATED:20220712T171805Z
LAST-MODIFIED:20221006T154846Z
UID:1496-1668535200-1668542400@bee9living.com
SUMMARY:Botanic Garden Vinyasa Flow & Social Hour
DESCRIPTION:Join us for a vinyasa flow in the Fort Worth Botanic Garden followed by a social hour with classmates. Yummy food and cold Athletic Brewing non-alcoholic craft beer will be provided. \nThe yoga flow is an all-levels class that links breath to movement. We will move at a steady pace that gets you out of your head and into your body. Each class will incorporate a contemplative theme. After the class\, connect with others in your community while enjoying food and a health-conscious brew. \nRSVP via the botanic garden website. See “Details” section below for link.
URL:https://bee9living.com/schedule-classes/botanic-garden-vinyasa-flow-social-hour-5/
LOCATION:Fort Worth Botanic Garden\, 3220 Botanic Garden Blvd\, Fort Worth\, TX\, 76107\, United States
END:VEVENT
BEGIN:VEVENT
DTSTART;TZID=UTC:20221011T180000
DTEND;TZID=UTC:20221011T200000
DTSTAMP:20260423T150856
CREATED:20220712T171728Z
LAST-MODIFIED:20221006T154827Z
UID:1494-1665511200-1665518400@bee9living.com
SUMMARY:Botanic Garden Vinyasa Flow & Social Hour
DESCRIPTION:Join us for a vinyasa flow in the Fort Worth Botanic Garden followed by a social hour with classmates. Yummy food and cold Athletic Brewing non-alcoholic craft beer will be provided. \nThe yoga flow is an all-levels class that links breath to movement. We will move at a steady pace that gets you out of your head and into your body. Each class will incorporate a contemplative theme. After the class\, connect with others in your community while enjoying food and a health-conscious brew. \nRSVP via the botanic garden website. See “Details” section below for link.
URL:https://bee9living.com/schedule-classes/botanic-garden-vinyasa-flow-social-hour-4/
LOCATION:Fort Worth Botanic Garden\, 3220 Botanic Garden Blvd\, Fort Worth\, TX\, 76107\, United States
END:VEVENT
BEGIN:VEVENT
DTSTART;TZID=UTC:20220913T180000
DTEND;TZID=UTC:20220913T200000
DTSTAMP:20260423T150856
CREATED:20220712T171641Z
LAST-MODIFIED:20220907T012020Z
UID:1492-1663092000-1663099200@bee9living.com
SUMMARY:Botanic Garden Vinyasa Flow & Social Hour
DESCRIPTION:Join us for a vinyasa flow in the Fort Worth Botanic Garden followed by a social hour with classmates. Yummy food and cold Athletic Brewing non-alcoholic craft beer will be provided. \nThe yoga flow is an all-levels class that links breath to movement. We will move at a steady pace that gets you out of your head and into your body. Each class will incorporate a contemplative theme. After the class\, connect with others in your community while enjoying food and a health-conscious brew. \nRSVP via the link below under “Details”.
URL:https://bee9living.com/schedule-classes/botanic-garden-vinyasa-flow-social-hour/
LOCATION:Fort Worth Botanic Garden\, 3220 Botanic Garden Blvd\, Fort Worth\, TX\, 76107\, United States
END:VEVENT
BEGIN:VEVENT
DTSTART;TZID=UTC:20220601T180000
DTEND;TZID=UTC:20220601T200000
DTSTAMP:20260423T150856
CREATED:20211015T155650Z
LAST-MODIFIED:20220407T193129Z
UID:1192-1654106400-1654113600@bee9living.com
SUMMARY:Botanic Garden Vinyasa Flow & Social Hour
DESCRIPTION:Join us for a vinyasa flow in the Fort Worth Botanic Garden followed by a social hour with classmates. Yummy food and cold Athletic Brewing non-alcoholic craft beer will be provided. \nThe yoga flow is an all-levels class that links breath to movement. We will move at a steady pace that gets you out of your head and into your body. Each class will incorporate a contemplative theme. After the class\, connect with others in your community while enjoying food and a health-conscious brew. \nRSVP using the link in the “Details” section below.
URL:https://bee9living.com/schedule-classes/botanic-garden-vinyasa-flow-social-hour-3/
LOCATION:Fort Worth Botanic Garden\, 3220 Botanic Garden Blvd\, Fort Worth\, TX\, 76107\, United States
END:VEVENT
BEGIN:VEVENT
DTSTART;TZID=UTC:20220504T180000
DTEND;TZID=UTC:20220504T200000
DTSTAMP:20260423T150856
CREATED:20211015T155607Z
LAST-MODIFIED:20220407T193145Z
UID:1190-1651687200-1651694400@bee9living.com
SUMMARY:Botanic Garden Vinyasa Flow & Social Hour
DESCRIPTION:Join us for a vinyasa flow in the Fort Worth Botanic Garden followed by a social hour with classmates. Yummy food and cold Athletic Brewing non-alcoholic craft beer will be provided. \nThe yoga flow is an all-levels class that links breath to movement. We will move at a steady pace that gets you out of your head and into your body. Each class will incorporate a contemplative theme. After the class\, connect with others in your community while enjoying food and a health-conscious brew. \nRSVP using the link in the “Details” section below.
URL:https://bee9living.com/schedule-classes/botanic-garden-vinyasa-flow-social-hour-2/
LOCATION:Fort Worth Botanic Garden\, 3220 Botanic Garden Blvd\, Fort Worth\, TX\, 76107\, United States
END:VEVENT
BEGIN:VEVENT
DTSTART;TZID=UTC:20211116T183000
DTEND;TZID=UTC:20211116T193000
DTSTAMP:20260423T150856
CREATED:20211015T152456Z
LAST-MODIFIED:20211019T163334Z
UID:1165-1637087400-1637091000@bee9living.com
SUMMARY:Release Series - Hips - PT Fitness
DESCRIPTION:Join us for a three-part vinyasa yoga series called Release. \nIn this series we will focus on releasing stuck energy in the body. \nNovember 16\, 2021: Hips \nIn our final class we’ll stretch and open our hips to release physical tightness and any stored emotional energy. \nRSVP via the PT Fitness website. See “Details” section below for link. \n\n$39 for complete series until Oct 29th. $49 after Oct 29th.
URL:https://bee9living.com/schedule-classes/release-series-hips-pt-fitness/
LOCATION:PT Fitness\, 2911 Race St.\, Fort Worth\, TX\, 76111\, United States
END:VEVENT
BEGIN:VEVENT
DTSTART;TZID=UTC:20211109T183000
DTEND;TZID=UTC:20211109T193000
DTSTAMP:20260423T150856
CREATED:20211015T152354Z
LAST-MODIFIED:20211019T163336Z
UID:1163-1636482600-1636486200@bee9living.com
SUMMARY:Release Series - Spine - PT Fitness
DESCRIPTION:Join us for a three-part vinyasa yoga series called Release. \nIn this series we will focus on releasing stuck energy in the body. \nNovember 9\, 2021: Spine \nWe’ll focus on spine extension and flexion\, as well as deep twists in this class to improve spine health and find energetic alignment. \nRSVP via the PT Fitness website. See “Details” section below for link. \n\n$39 for complete series until Oct 29th. $49 after Oct 29th.
URL:https://bee9living.com/schedule-classes/release-series-spine-pt-fitness/
LOCATION:PT Fitness\, 2911 Race St.\, Fort Worth\, TX\, 76111\, United States
END:VEVENT
BEGIN:VEVENT
DTSTART;TZID=UTC:20211102T183000
DTEND;TZID=UTC:20211102T193000
DTSTAMP:20260423T150856
CREATED:20211015T152156Z
LAST-MODIFIED:20211019T163345Z
UID:1161-1635877800-1635881400@bee9living.com
SUMMARY:Release Series - Shoulders - PT Fitness
DESCRIPTION:Join us for a three-part vinyasa yoga series called Release. \nIn this series we will focus on releasing stuck energy in the body. \nNovember 2\, 2021: Shoulders \nIn this class we’ll open and stretch our shoulders\, and give attention to this common area where tension is held. \nRSVP via the PT Fitness website. See “Details” section below for link. \n\n$39 for complete series until Oct 29th. $49 after Oct 29th.
URL:https://bee9living.com/schedule-classes/release-series-pt-fitness/
LOCATION:PT Fitness\, 2911 Race St.\, Fort Worth\, TX\, 76111\, United States
END:VEVENT
BEGIN:VEVENT
DTSTART;TZID=UTC:20211019T183000
DTEND;TZID=UTC:20211019T193000
DTSTAMP:20260423T150856
CREATED:20210922T204238Z
LAST-MODIFIED:20210922T232453Z
UID:1152-1634668200-1634671800@bee9living.com
SUMMARY:PT Fitness Vinyasa Foundations Series
DESCRIPTION:Join us for a three-part Vinyasa Foundations yoga series. This series is perfect for beginners or anyone who wants to refine their practice. \nOur aim is for students to leave feeling empowered with a deeper understanding of their practice. \nOctober 19\, 2021: Vinyasa Flow \nThis final class of the series will blend the postures and fundamentals of the first two weeks into a vinyasa flow. \nRSVP via the PT Fitness website. See “Details” section below for link. \n$39 for complete series until Oct 1st. $49 after Oct 1st.
URL:https://bee9living.com/schedule-classes/pt-fitness-vinyasa-foundations-series-3/
LOCATION:PT Fitness\, 2911 Race St.\, Fort Worth\, TX\, 76111\, United States
END:VEVENT
BEGIN:VEVENT
DTSTART;TZID=UTC:20211012T183000
DTEND;TZID=UTC:20211012T193000
DTSTAMP:20260423T150856
CREATED:20210922T204149Z
LAST-MODIFIED:20210922T232525Z
UID:1150-1634063400-1634067000@bee9living.com
SUMMARY:PT Fitness Vinyasa Foundations Series
DESCRIPTION:Join us for a three-part Vinyasa Foundations yoga series. This series is perfect for beginners or anyone who wants to refine their practice. \nOur aim is for students to leave feeling empowered with a deeper understanding of their practice. \nOctober 12\, 2021: Intro to Balancing Postures Using the Wall \nBalancing postures can be intimidating without first using support to learn how to enter the postures and find balance. This practice will incorporate the walls for support and deeper stretching. \nRSVP via the PT Fitness website. See “Details” section below for link. \n$39 for complete series until Oct 1st. $49 after Oct 1st.
URL:https://bee9living.com/schedule-classes/pt-fitness-vinyasa-foundations-series-2/
LOCATION:PT Fitness\, 2911 Race St.\, Fort Worth\, TX\, 76111\, United States
END:VEVENT
BEGIN:VEVENT
DTSTART;TZID=UTC:20211005T183000
DTEND;TZID=UTC:20211005T193000
DTSTAMP:20260423T150856
CREATED:20210922T203700Z
LAST-MODIFIED:20210922T232507Z
UID:1147-1633458600-1633462200@bee9living.com
SUMMARY:PT Fitness Vinyasa Foundations Series
DESCRIPTION:Join us for a three-part Vinyasa Foundations yoga series. This series is perfect for beginners or anyone who wants to refine their practice. \nOur aim is for students to leave feeling empowered with a deeper understanding of their practice. \nOctober 5\, 2021: Intro to Breath and Vinyasa Flow \nIn this class we will move at a slower pace and give specific cues in each pose to help students learn alignment and the role breath plays in their practice. \nRSVP via the PT Fitness website. See “Details” section below for link. \n$39 for complete series until Oct 1st. $49 after Oct 1st.
URL:https://bee9living.com/schedule-classes/pt-fitness-vinyasa-foundations-series/
LOCATION:PT Fitness\, 2911 Race St.\, Fort Worth\, TX\, 76111\, United States
END:VEVENT
BEGIN:VEVENT
DTSTART;TZID=UTC:20210930T180000
DTEND;TZID=UTC:20210930T200000
DTSTAMP:20260423T150856
CREATED:20210513T022913Z
LAST-MODIFIED:20210720T172516Z
UID:945-1633024800-1633032000@bee9living.com
SUMMARY:Botanic Garden Vinyasa Flow & Social Hour
DESCRIPTION:Join us for a vinyasa flow in the garden\, complemented with a sound healing experience with Certified Sound Healing Practitioner\, Sara Southerland. \nThis experience will be followed by a social hour with classmates .  A fresh bento box and cold Athletic Brewing non-alcoholic craft beer will be provided. \nThe yoga flow is an all-levels class that links breath to movement. We will move at a steady pace that gets you out of your head and into your body. Each class will incorporate a contemplative theme. The theme of this session is CULTIVATING YOUR GARDEN exploring how to take this practice into your life through self-care and mindfulness. \nAfter the class you will have the opportunity to explore this theme with fellow students off the mat during a social hour. Connect with others in your community while enjoying food and a health-conscious brew. \nRSVP via the botanic garden website. See “Details” section below for link. \n$30 FWBG members / $35 non-members
URL:https://bee9living.com/schedule-classes/autumn-vinyasa-flow-social-hour-3/
LOCATION:Fort Worth Botanic Garden\, 3220 Botanic Garden Blvd\, Fort Worth\, TX\, 76107\, United States
END:VEVENT
BEGIN:VEVENT
DTSTART;TZID=UTC:20210925T123000
DTEND;TZID=UTC:20210925T140000
DTSTAMP:20260423T150856
CREATED:20210825T024205Z
LAST-MODIFIED:20210825T024227Z
UID:1126-1632573000-1632578400@bee9living.com
SUMMARY:Yoga at Neutral Ground Brewing Company
DESCRIPTION:Join us for a 45-minute session of yoga led by Winston Barr. Afterward\, enjoy a pint of beer as part of your ticket price. We are limiting the class to 15 people. Cheers! \nRSVP via Neutral Ground’s website. See “Details” section below for link. \nMaterials: A yoga mat and any props you wish to use. \n$20 includes yoga and your choice of one craft beer. \nRegistration opening soon.
URL:https://bee9living.com/schedule-classes/yoga-at-neutral-ground-brewing-company-3/
LOCATION:Neutral Ground Brewing Company\, 2929 Race St\, Fort Worth\, TX\, 76111\, United States
END:VEVENT
BEGIN:VEVENT
DTSTART;TZID=UTC:20210921T183000
DTEND;TZID=UTC:20210921T193000
DTSTAMP:20260423T150856
CREATED:20210810T205250Z
LAST-MODIFIED:20210810T205414Z
UID:1119-1632249000-1632252600@bee9living.com
SUMMARY:PT Fitness Heart\, Focus\, POWER Series
DESCRIPTION:Yoga Series: Heart\, Focus\, Power \nJoin us for a three-part Vinyasa yoga series incorporating the mantra of PT Fitness: embracing your Heart\, developing your Focus\, and celebrating your Power. \nIn these classes we will flow at a steady pace\, linking breath to movement. Alignment cues are given throughout class to help students embody the poses. \nSeptember 21\, 2021: POWER \nYou have harnessed the combined forces of heart-centered intention and focus. Now we will celebrate our power and resilience in this fiery flow. \nRSVP via the PT Fitness website. See “Details” section below for link. \n$39 for complete series until Sept 3rd. $49 after Sept 3rd.
URL:https://bee9living.com/schedule-classes/heart-focus-power-series-pt-fitness-3/
LOCATION:PT Fitness\, 2911 Race St.\, Fort Worth\, TX\, 76111\, United States
END:VEVENT
BEGIN:VEVENT
DTSTART;TZID=UTC:20210916T180000
DTEND;TZID=UTC:20210916T200000
DTSTAMP:20260423T150856
CREATED:20210513T022656Z
LAST-MODIFIED:20210720T172524Z
UID:943-1631815200-1631822400@bee9living.com
SUMMARY:Botanic Garden Vinyasa Flow & Social Hour
DESCRIPTION:Join us for a vinyasa flow in the garden followed by a social hour with classmates. A fresh bento box and cold Athletic Brewing non-alcoholic craft beer will be provided. \nThe yoga flow is an all-levels class that links breath to movement. We will move at a steady pace that gets you out of your head and into your body. Each class will incorporate a contemplative theme. The theme of this session is GROWTH examining personal and community growth\, as well as lessons from nature. \nAfter the class you will have the opportunity to practice this theme off the mat with a social hour to expand your community (and maybe even comfort zone). Connect with others while enjoying food and a health-conscious brew. \nRSVP via the botanic garden website. See “Details” section below for link. \n$30 FWBG members / $35 non-members
URL:https://bee9living.com/schedule-classes/autumn-vinyasa-flow-social-hour-2/
LOCATION:Fort Worth Botanic Garden\, 3220 Botanic Garden Blvd\, Fort Worth\, TX\, 76107\, United States
END:VEVENT
BEGIN:VEVENT
DTSTART;TZID=UTC:20210914T183000
DTEND;TZID=UTC:20210914T193000
DTSTAMP:20260423T150856
CREATED:20210810T205131Z
LAST-MODIFIED:20210810T205434Z
UID:1117-1631644200-1631647800@bee9living.com
SUMMARY:PT Fitness Heart\, FOCUS\, Power Series
DESCRIPTION:Yoga Series: Heart\, Focus\, Power \nJoin us for a three-part Vinyasa yoga series incorporating the mantra of PT Fitness: embracing your Heart\, developing your Focus\, and celebrating your Power. \nIn these classes we will flow at a steady pace\, linking breath to movement. Alignment cues are given throughout class to help students embody the poses. \nSeptember 14\, 2021: FOCUS \nAfter exploring what drives us and opening our hearts\, we will practice the art of focus. Develop clarity and conviction by setting intentions for your practice and life. \nRSVP via the PT Fitness website. See “Details” section below for link. \n$39 for complete series until Sept 3rd. $49 after Sept 3rd.
URL:https://bee9living.com/schedule-classes/heart-focus-power-series-pt-fitness-2/
LOCATION:PT Fitness\, 2911 Race St.\, Fort Worth\, TX\, 76111\, United States
END:VEVENT
BEGIN:VEVENT
DTSTART;TZID=UTC:20210907T183000
DTEND;TZID=UTC:20210907T193000
DTSTAMP:20260423T150856
CREATED:20210810T145034Z
LAST-MODIFIED:20210810T205403Z
UID:1110-1631039400-1631043000@bee9living.com
SUMMARY:PT Fitness HEART\, Focus\, Power Series
DESCRIPTION:Yoga Series: Heart\, Focus\, Power \nJoin us for a three-part Vinyasa yoga series incorporating the mantra of PT Fitness: embracing your Heart\, developing your Focus\, and celebrating your Power. \nIn these classes we will flow at a steady pace\, linking breath to movement. Alignment cues are given throughout class to help students embody the poses. \nSeptember 7\, 2021: HEART \nIn this class we will explore your WHY. What do you want to cultivate in your life? This contemplation will build the foundation for the following classes. \nRSVP via the PT Fitness website. See “Details” section below for link. \n$39 for complete series until Sept 3rd. $49 after Sept 3rd.
URL:https://bee9living.com/schedule-classes/heart-focus-power-series-pt-fitness/
LOCATION:PT Fitness\, 2911 Race St.\, Fort Worth\, TX\, 76111\, United States
END:VEVENT
BEGIN:VEVENT
DTSTART;TZID=UTC:20210902T180000
DTEND;TZID=UTC:20210902T200000
DTSTAMP:20260423T150856
CREATED:20210513T022152Z
LAST-MODIFIED:20210720T172531Z
UID:938-1630605600-1630612800@bee9living.com
SUMMARY:Botanic Garden Vinyasa Flow & Social Hour
DESCRIPTION:Join us for a vinyasa flow in the Fort Worth Botanic Garden followed by a social hour with classmates. A fresh bento box and cold Athletic Brewing non-alcoholic craft beer will be provided. \nThe yoga flow is an all-levels class that links breath to movement. We will move at a steady pace that gets you out of your head and into your body. Each class will incorporate a contemplative theme. The theme of this session is CONNECTION with self\, community\, and nature. \nAfter the class you will have the opportunity to practice this theme off the mat with a social hour. Connect with others in your community while enjoying food and a health-conscious brew. \nRSVP via the botanic garden website. See “Details” section below for link. \n$30 FWBG members / $35 non-members
URL:https://bee9living.com/schedule-classes/autumn-vinyasa-flow-social-hour/
LOCATION:Fort Worth Botanic Garden\, 3220 Botanic Garden Blvd\, Fort Worth\, TX\, 76107\, United States
END:VEVENT
BEGIN:VEVENT
DTSTART;TZID=UTC:20210731T123000
DTEND;TZID=UTC:20210731T140000
DTSTAMP:20260423T150856
CREATED:20210707T224923Z
LAST-MODIFIED:20210720T172832Z
UID:1075-1627734600-1627740000@bee9living.com
SUMMARY:Yoga at Neutral Ground Brewing Company
DESCRIPTION:Join us for a 45-minute session of yoga. Afterward\, enjoy a pint of beer as part of your ticket price. We are limiting the class to 15 people. Cheers! \nRSVP via Neutral Ground’s website. See “Details” section below for link. \nMaterials: A yoga mat and any props you wish to use. \n$20 includes yoga and your choice of one craft beer.
URL:https://bee9living.com/schedule-classes/yoga-at-neutral-ground-brewing-company-2/
LOCATION:Neutral Ground Brewing Company\, 2929 Race St\, Fort Worth\, TX\, 76111\, United States
END:VEVENT
BEGIN:VEVENT
DTSTART;TZID=UTC:20210619T123000
DTEND;TZID=UTC:20210619T131500
DTSTAMP:20260423T150856
CREATED:20210526T204634Z
LAST-MODIFIED:20210526T204634Z
UID:1028-1624105800-1624108500@bee9living.com
SUMMARY:Yoga at Neutral Ground Brewing Company
DESCRIPTION:Join us for a 45-minute session of yoga. Afterward\, enjoy a pint of beer as part of your ticket price. We are limiting the class to 15 to ensure social distancing. Cheers! \nRSVP via Neutral Ground’s website. See “Details” section below for link. \nMaterials: A yoga mat and any props you wish to use.
URL:https://bee9living.com/schedule-classes/yoga-at-neutral-ground-brewing-company/
LOCATION:Neutral Ground Brewing Company\, 2929 Race St\, Fort Worth\, TX\, 76111\, United States
END:VEVENT
BEGIN:VEVENT
DTSTART;TZID=America/Chicago:20201220T110000
DTEND;TZID=America/Chicago:20201220T120000
DTSTAMP:20260423T150856
CREATED:20201106T193138Z
LAST-MODIFIED:20201220T134535Z
UID:551-1608462000-1608465600@bee9living.com
SUMMARY:Outdoor Vinyasa Flow - In Person
DESCRIPTION:Donation based outdoor Vinyasa flow. We want yoga to be accessible for all. \nGet connected with nature and movement in a safe environment. This is an All Levels class that links breath to movement. \nBring a mat\, water\, and dress comfortably for the outdoor environment. \nRSVP required to attend. Limited number of spots due to social distancing. \nPark along Watauga Rd or W Lotus Ave on driveway side.
URL:https://bee9living.com/schedule-classes/donation-based-vinyasa-class-outdoor-2/
LOCATION:Bee9 Backyard\, 2071 W LOTUS AVE\, FORT WORTH\, TX\, 76111\, United States
END:VEVENT
BEGIN:VEVENT
DTSTART;TZID=UTC:20201217T171500
DTEND;TZID=UTC:20201217T180000
DTSTAMP:20260423T150856
CREATED:20201101T152838Z
LAST-MODIFIED:20201217T200222Z
UID:381-1608225300-1608228000@bee9living.com
SUMMARY:Virtual Vinyasa Flow
DESCRIPTION:Donation based vinyasa flow. This is an All Levels class that links breath to movement. \nRSVP required to attend. \nVenmo @sonaliebarr for donations. \nWe will send a link to the live stream 10 minutes before class.
URL:https://bee9living.com/schedule-classes/vinyasa-flow-outdoor/
LOCATION:Online
END:VEVENT
BEGIN:VEVENT
DTSTART;TZID=UTC:20201215T171500
DTEND;TZID=UTC:20201215T180000
DTSTAMP:20260423T150856
CREATED:20201105T135404Z
LAST-MODIFIED:20201214T210013Z
UID:485-1608052500-1608055200@bee9living.com
SUMMARY:Virtual Foundations Flow
DESCRIPTION:Donation based vinyasa flow. This is a slower pace class that focuses on alignment. This class is great for beginners or anyone who wants to refine their practice. \nRSVP required to attend. \nVenmo @sonaliebarr for donations. \nWe will send a link to the live stream 10 minutes before class.
URL:https://bee9living.com/schedule-classes/foundations-flow-outdoor/
LOCATION:Online
END:VEVENT
BEGIN:VEVENT
DTSTART;TZID=UTC:20201129T110000
DTEND;TZID=UTC:20201129T120000
DTSTAMP:20260423T150856
CREATED:20201105T150357Z
LAST-MODIFIED:20201107T224424Z
UID:525-1606647600-1606651200@bee9living.com
SUMMARY:Donation Based Vinyasa Class - Outdoor
DESCRIPTION:Donation based outdoor Vinyasa flow. We want yoga to be accessible for all. \nGet connected with nature and movement in a safe environment. This is an All Levels class that links breath to movement. \nBring a mat\, water\, and dress comfortably for the outdoor environment. \nRSVP required to attend. Limited number of spots due to social distancing. \nPark along Watauga Rd or W Lotus Ave on driveway side.
URL:https://bee9living.com/schedule-classes/donation-based-vinyasa-class-outdoor/
LOCATION:Bee9 Backyard\, 2071 W LOTUS AVE\, FORT WORTH\, TX\, 76111\, United States
END:VEVENT
END:VCALENDAR